BEGIN:VCALENDAR
VERSION:2.0
PRODID:-//PDE PTO - ECPv6.15.17//NONSGML v1.0//EN
CALSCALE:GREGORIAN
METHOD:PUBLISH
X-WR-CALNAME:PDE PTO
X-ORIGINAL-URL:https://www.pdepto.com
X-WR-CALDESC:Events for PDE PTO
REFRESH-INTERVAL;VALUE=DURATION:PT1H
X-Robots-Tag:noindex
X-PUBLISHED-TTL:PT1H
BEGIN:VTIMEZONE
TZID:America/Indiana/Indianapolis
BEGIN:DAYLIGHT
TZOFFSETFROM:-0500
TZOFFSETTO:-0400
TZNAME:EDT
DTSTART:20250309T070000
END:DAYLIGHT
BEGIN:STANDARD
TZOFFSETFROM:-0400
TZOFFSETTO:-0500
TZNAME:EST
DTSTART:20251102T060000
END:STANDARD
BEGIN:DAYLIGHT
TZOFFSETFROM:-0500
TZOFFSETTO:-0400
TZNAME:EDT
DTSTART:20260308T070000
END:DAYLIGHT
BEGIN:STANDARD
TZOFFSETFROM:-0400
TZOFFSETTO:-0500
TZNAME:EST
DTSTART:20261101T060000
END:STANDARD
BEGIN:DAYLIGHT
TZOFFSETFROM:-0500
TZOFFSETTO:-0400
TZNAME:EDT
DTSTART:20270314T070000
END:DAYLIGHT
BEGIN:STANDARD
TZOFFSETFROM:-0400
TZOFFSETTO:-0500
TZNAME:EST
DTSTART:20271107T060000
END:STANDARD
END:VTIMEZONE
BEGIN:VEVENT
DTSTART;TZID=America/Indiana/Indianapolis:20260425T090000
DTEND;TZID=America/Indiana/Indianapolis:20260425T110000
DTSTAMP:20260421T043446
CREATED:20251204T163021Z
LAST-MODIFIED:20260127T152640Z
UID:367-1777107600-1777114800@www.pdepto.com
SUMMARY:Color Run
DESCRIPTION:🎨 Color RunTBD | 9:00 AM – 11:00 AM \nThe big day is finally here! Join us on TBD for our vibrant Color Run\, where participants who signed up during the pledge period will take to the course and get showered in color from start to finish. \nEvent Highlights: \n\n\nShirts and individual color packs will be delivered prior to the run so everyone is ready to burst with color. \n\n\nWater stations will be available to keep runners refreshed. \n\n\nColor stations throughout the course will add even more fun—and plenty of color! \n\n\nCome ready to run\, laugh\, and get messy in the most colorful event of the year!
URL:https://www.pdepto.com/event/color-run-2/
LOCATION:Pee Dee Elementary School
ORGANIZER;CN="PDE PTO":MAILTO:contact@pdepto.com
END:VEVENT
BEGIN:VEVENT
DTSTART;TZID=America/Indiana/Indianapolis:20260430T173000
DTEND;TZID=America/Indiana/Indianapolis:20260430T200000
DTSTAMP:20260421T043446
CREATED:20251204T164048Z
LAST-MODIFIED:20251204T164048Z
UID:373-1777570200-1777579200@www.pdepto.com
SUMMARY:Spaghetti and Bingo
DESCRIPTION:🍝 Spaghetti Dinner & Bingo Fun NightThursday\, April 30\, 2026 | Dinner: 5:30 PM | Bingo: 7:00 PM \nJoin us for a night of delicious food and exciting prizes! Start the evening with a hearty spaghetti and meatballs dinner\, then test your luck in Bingo for a chance to win great prizes. \nEvent Highlights: \n\n\nDoor prizes and raffles throughout the night \n\n\nAdditional beverages and snacks available for purchase \n\n\nFun for the whole family and a chance to support our school community \n\n\nBring your appetite and your lucky charm for a night of food\, fun\, and games! \nTo go plates will be available if desired.
URL:https://www.pdepto.com/event/spaghetti-and-bingo/
LOCATION:Pee Dee Elementary School
ORGANIZER;CN="PDE PTO":MAILTO:contact@pdepto.com
END:VEVENT
BEGIN:VEVENT
DTSTART;TZID=America/Indiana/Indianapolis:20260508T000000
DTEND;TZID=America/Indiana/Indianapolis:20260508T235959
DTSTAMP:20260421T043446
CREATED:20251204T164351Z
LAST-MODIFIED:20251204T164351Z
UID:375-1778198400-1778284799@www.pdepto.com
SUMMARY:Hat Day
DESCRIPTION:🎩 Hat DayFriday\, May 8\, 2026 \nShow off your style and support our school! Students can bring $1 to participate in Hat Day and wear their favorite hat throughout the school day. \nWhether it’s silly\, stylish\, or totally unique\, every hat is welcome. Have fun\, be creative\, and make your day a little more colorful! \n(Hats must adhere to school policies. No obscene or offensive styles allowed)
URL:https://www.pdepto.com/event/hat-day-4/
LOCATION:Pee Dee Elementary School
ORGANIZER;CN="PDE PTO":MAILTO:contact@pdepto.com
END:VEVENT
END:VCALENDAR